BEGIN:VCALENDAR
CALSCALE:GREGORIAN
METHOD:PUBLISH
VERSION:2.0
PRODID:-//iCalWriter OpenSource Project//iCalWriter 0.8.1//EN
BEGIN:VEVENT
DTSTAMP:20260422T094804Z
UID:1776851284VfAp@www.braunsbedra.de
DTSTART:20260423T160000
DTEND:20260423T170000
SUMMARY:Leo's Lesespaß
DESCRIPTION:Einladung zum Zuhören und Mitmachen für Kinder zwischen 3 und 7 Jahren
LOCATION:Stadtbibliothek Braunsbedra 
		06242 Braunsbedra
	
CATEGORIES:Familien und Kinder,Kunst/ Kultur und Literatur
URL:https://www.braunsbedra.de/de/veranstaltungen-rossbach/event/53308,1243/leos-lesespass-23-04-2026.html
ATTACH:https://www.braunsbedra.de/de/datei/anzeigen/id/53303,1243/leos_lesespass_scan.jpg
END:VEVENT
END:VCALENDAR
