BEGIN:VCALENDAR
CALSCALE:GREGORIAN
METHOD:PUBLISH
VERSION:2.0
PRODID:-//iCalWriter OpenSource Project//iCalWriter 0.8.1//EN
BEGIN:VEVENT
DTSTAMP:20260420T105914Z
UID:1776682754RVIu@www.braunsbedra.de
DTSTART:20260425T170000
DTEND;VALUE=DATE:20260425
SUMMARY:Frühlingskonzert mit Gitarrist Manfred Hopf
DESCRIPTION:Frühlingskonzert mit Gitarrist Manfred Hopf17 Uhr ev. Kirche
 
weitere Veranstaltungen 2026:
24. MAIPfingsten14 Uhr Predigtcafe ev. Kirche
14. JUNIPublic Viewing Fußball WM 202614.6. ab 18 Uhr • 20.6. ab 21 Uhr • ev. Kirche
20. JUNIKreis-Kinder- und JugendspieleRingkampf im Sportzentrum
12. JULI275 Jahre Kirchweih-Fest14 Uhr ev. Kirche
22. AUGSommerkinoev. Kirche
29. AUGHeimatfest14.30 Uhr Platz der Feuerwehr
12. SEPT5. Geiseltaler Powercup10 Uhr Ringkampf U-8 bis U-12 im Sportzentrum
13. SEPTTag des offenen Denkmalsev. Kirche & Luftschutzbunker Krumpa
26. SEPTHerbstkonzert17 Uhr ev. Kirche
20. NOVLaternenfest17 Uhr KiTa Benjamin Blümchen
05. DEZIrische Weihnacht mit den „Greenhorns“17 Uhr ev. Kirche
       
LOCATION:Kirche Krumpa 
		06242 Braunsbedra / Krumpa
	
CATEGORIES:Musik
URL:https://www.braunsbedra.de/de/veranstaltungen-krumpa/event/54512,1243/fruehlingskonzert-mit-gitarrist-manfred-hopf-25-04-2026.html
END:VEVENT
END:VCALENDAR
