BEGIN:VCALENDAR
CALSCALE:GREGORIAN
METHOD:PUBLISH
VERSION:2.0
PRODID:-//iCalWriter OpenSource Project//iCalWriter 0.8.1//EN
BEGIN:VEVENT
DTSTAMP:20260420T122535Z
UID:1776687935nVll@www.braunsbedra.de
DTSTART:20260423T160000
DTEND:20260423T170000
SUMMARY:Starke Kinder in Braunsbedra
DESCRIPTION:Damit Kinder im Leben zurechtkommen, braucht es Sozialkompetenz und positive Haltung zum Leben und Widerstandskräfte gegen Widrigkeiten des Lebens.
Wir ergründen, wie Eltern ihre Kinder unterstützen können, diese Kompetenzen zu entwoickeln. Wir schauen, was Eltern tun können, damit ihre Kinder resilient werden, um mit schwierigen Situautionen besser klarzukommen.
LOCATION:Stadtbibliothek Braunsbedra 
		06242 Braunsbedra
	
CATEGORIES:Bildung/ Vorträge und Diskussionen,Familien und Kinder
URL:https://www.braunsbedra.de/de/veranstaltungen-krumpa/event/54154,1243/starke-kinder-in-braunsbedra-23-04-2026.html
ATTACH:https://www.braunsbedra.de/de/datei/anzeigen/id/54155,1243/logo_fam_klein_für_signatur_2.png
END:VEVENT
END:VCALENDAR
