BEGIN:VCALENDAR
CALSCALE:GREGORIAN
METHOD:PUBLISH
VERSION:2.0
PRODID:-//iCalWriter OpenSource Project//iCalWriter 0.8.1//EN
BEGIN:VEVENT
DTSTAMP:20260423T082305Z
UID:1776932585ACra@www.braunsbedra.de
DTSTART;VALUE=DATE:20250630
DTEND;VALUE=DATE:20250808
SUMMARY:Lesesommer XXL 2025
DESCRIPTION:Wir laden Dich zur Teilnahme an der Sommerferienaktion Deiner Stadtbibliothek ein.Viele neue Kinderbuchhelden und Abenteuer warten darauf entdeckt und erlebt zu werden.Wer kann daran teilnehmen?Du, wenn Du zwischen 7 und 16 Jahren alt bist, einengültigen Bibliotheksausweis der Stadtbibliothek Braunsbedra oder ihrer Zweigstelle in Roßbach besitzt. Wenn Du noch keinen Bibliotheksausweis hast, komm mitDeinen Eltern in die Bibliothek!Was muss man tun?Du leihst Dir in den Sommerferien mindestens 2 Bücher aus,liest diese, bewertest sie und beantwortest Fragen dazu. Esdürfen auch E-Books gelesen und bewertet werden, welcheim Onleihe-Portal www.biblio24.onleihe.de heruntergeladenwerden.   Zusatzaufgabe : Wo hast Du deine Lesesommer-Bücher gelesen? Zeige uns Deinen LieblingsLeseort. Male ihn auf oder bring ein Foto davon mit!
Belohnung
Wenn Du alle Aufgaben erledigt und die ausgefüllten Bewertungskarten in Deiner Bibliothek abgegeben hast, erhälst Du eine Einladung zur Abschlußveranstaltung und eine Urkunde. Diese nimmst Du mit in Deine Schule und kannst dafür eine gute Note erhalten.
LOCATION:Stadtbibliothek Braunsbedra 
		06242 Braunsbedra
	
CATEGORIES:Familien und Kinder,Kunst/ Kultur und Literatur
URL:https://www.braunsbedra.de/de/veranstaltungen-frankleben/event/50431,1243/lesesommer-xxl-2025-30-06-2025.html
ATTACH:https://www.braunsbedra.de/de/datei/anzeigen/id/50441,1243/logo_lesesommer.jpg
END:VEVENT
END:VCALENDAR
