BEGIN:VCALENDAR
CALSCALE:GREGORIAN
METHOD:PUBLISH
VERSION:2.0
PRODID:-//iCalWriter OpenSource Project//iCalWriter 0.8.1//EN
BEGIN:VEVENT
DTSTAMP:20260422T113630Z
UID:17768577906gBC@www.braunsbedra.de
DTSTART:20260501T110000
DTEND;VALUE=DATE:20260501
SUMMARY:Traditionelles Anbaden u. a. mit Roßbacher Musikanten
DESCRIPTION:Eintritt ist frei!
LOCATION:Hasse Campingplatz und Strandbad GmbH 06242 Braunsbedra / Roßbach
CATEGORIES:Musik,Volksfeste/ Märkte
URL:https://www.braunsbedra.de/de/veranstaltung/event/54713,1243/traditionelles-anbaden-u-a-mit-rossbacher-musikanten-01-05-2026.html
ATTACH:https://www.braunsbedra.de/de/datei/anzeigen/id/54714,1243/bild2.jpg
END:VEVENT
END:VCALENDAR
