BEGIN:VCALENDAR
CALSCALE:GREGORIAN
METHOD:PUBLISH
VERSION:2.0
PRODID:-//iCalWriter OpenSource Project//iCalWriter 0.8.1//EN
BEGIN:VEVENT
DTSTAMP:20260422T113023Z
UID:1776857423Z96j@www.braunsbedra.de
DTSTART:20260509T140000
DTEND;VALUE=DATE:20260509
SUMMARY:Saisoneröffnung Marina Braunsbedra - Hafenplatz 1
DESCRIPTION:
LOCATION:Marina Braunsbedra 06242 Braunsbedra
CATEGORIES:Musik,Sonstiges
URL:https://www.braunsbedra.de/de/veranstaltung/event/54705,1243/saisoneroeffnung-marina-braunsbedra---hafenplatz-1-09-05-2026.html
ATTACH:https://www.braunsbedra.de/de/datei/anzeigen/id/54707,1243/saisoneroeffnung_marina_braunsbedra_2026.jpg
END:VEVENT
END:VCALENDAR
