BEGIN:VCALENDAR
CALSCALE:GREGORIAN
METHOD:PUBLISH
VERSION:2.0
PRODID:-//iCalWriter OpenSource Project//iCalWriter 0.8.1//EN
BEGIN:VEVENT
DTSTAMP:20260423T095715Z
UID:1776938235s6Ow@www.braunsbedra.de
DTSTART:20260322T140000
DTEND;VALUE=DATE:20260322
SUMMARY:Frühlingszauber im Geiseltal mit den "Roßbacher Musikanten"
DESCRIPTION:
LOCATION:Zentralwerkstatt Pfännerhall 
		06242 Braunsbedra
	
CATEGORIES:Familien und Kinder,Musik,Seniorinnen + Senioren
URL:https://www.braunsbedra.de/de/veranstaltung/event/53480,1243/fruehlingszauber-im-geiseltal-mit-den-rossbacher-musikanten-22-03-2026.html
ATTACH:https://www.braunsbedra.de/de/datei/anzeigen/id/53482,1243/image__003_.png
END:VEVENT
END:VCALENDAR
