BEGIN:VCALENDAR
CALSCALE:GREGORIAN
METHOD:PUBLISH
VERSION:2.0
PRODID:-//iCalWriter OpenSource Project//iCalWriter 0.8.1//EN
BEGIN:VEVENT
DTSTAMP:20260423T082035Z
UID:1776932435B4mA@www.braunsbedra.de
DTSTART:20260303T090000
DTEND:20260303T110000
SUMMARY:Saale-Beratungs-Mobil 60+
DESCRIPTION:Sie planen demnächst Ihren Renteneintritt und haben Fragen rund um den Rentenantrag?
Sie brauchen Hilfe und Begleitung zu Ämtern und Behörden?
Alltagsprobleme machen Ihnen Sorgen?
Dann melden Sie sich bei uns!
Die WORKS gemeinnütziges Bildungswerk GmbH berät Sie gern
 jeden 1. Dienstag im Monat,  in der Zeit von 09:00 - 11:00 Uhr,
in der Stadtbibliothek Braunsbedra, Goethestraße 33.
Das Angebot ist freiwillig, neutral und kostenfrei.
Ihre Ansprechpartnerinnen Frau Feineis und Frau Müller erreichen Sie auch in Merseburg, in der WORKS Gemeinnütziges Bildungswerk GmbH,  Siegfried-Berger-Straße 3 a,
montags und mittwochs von 09:00 - 15:00 Uhr.
Telefon: 0179/4177507 oder 03461/2885678
E-Mail:  saalemobil@works-bildungswerk.de
 
LOCATION:Stadtbibliothek Braunsbedra 06242 Braunsbedra
CATEGORIES:Recht,Seniorinnen + Senioren
URL:https://www.braunsbedra.de/de/veranstaltung/event/52868,1243/saale-beratungs-mobil-60-03-03-2026.html
ATTACH:https://www.braunsbedra.de/de/datei/anzeigen/id/52843,1243/icon_works.png
END:VEVENT
END:VCALENDAR
