BEGIN:VCALENDAR
CALSCALE:GREGORIAN
METHOD:PUBLISH
VERSION:2.0
PRODID:-//iCalWriter OpenSource Project//iCalWriter 0.8.1//EN
BEGIN:VEVENT
DTSTAMP:20260420T110438Z
UID:1776683078n3Du@www.braunsbedra.de
DTSTART:20251021T180000
DTEND:20251021T200000
SUMMARY:Grenzsängerin
DESCRIPTION:Die Opernsängerin Sabine Paßow, alias Eni Hilgrid, schildert  humorvoll und nachdenklich ihre Erlebnisse als Pendlerin zwischen den Welten, von West nach Ost , aus den Jahren 1987-1990.
Die Veranstaltung findet im Rahmen der Saalekreis-Literaturtage statt.
LOCATION:Stadtbibliothek Braunsbedra 
		06242 Braunsbedra
	
CATEGORIES:Bühne/ Theater,Familien und Kinder,Kunst/ Kultur und Literatur,Seniorinnen + Senioren
URL:https://www.braunsbedra.de/de/veranstaltung/event/50880,1243/grenzsaengerin-21-10-2025.html
ATTACH:https://www.braunsbedra.de/de/datei/anzeigen/id/51001,1243/grenzgaengerin.jpg
END:VEVENT
END:VCALENDAR
